BEGIN:VCALENDAR
VERSION:2.0
PRODID:-//Library Market//iCal Export//EN
BEGIN:VEVENT
SUMMARY:Button Blast!
UID:26157
DTSTAMP:20260422T143300Z
DTSTART:20260807T143000Z
DTEND:20260807T153000Z
LOCATION:Mukwonago Community Library, 511 Division St., Mukwonago, WI 5314
 9, United States
ROOM: MetaSpace 511
DESCRIPTION:Button Blast is a fun program for kids ages 6+ where you get t
 o make your own buttons! You can draw something silly, cool, or creative a
 nd then turn it into a real button to wear. We’ll have everything you ne
 ed, so just bring your ideas and get ready to press some buttons!
URL:https://www.mukwonagolibrary.org/event/button-blast-26157
END:VEVENT
END:VCALENDAR
