BEGIN:VCALENDAR
VERSION:2.0
PRODID:-//Library Market//iCal Export//EN
BEGIN:VEVENT
SUMMARY:Teen Make &amp; Take: Library in a Tin
UID:26011
DTSTAMP:20260419T165900Z
DTSTART:20260701T180000Z
DTEND:20260701T193000Z
LOCATION:Mukwonago Community Library, 511 Division St., Mukwonago, WI 5314
 9, United States
ROOM: MetaSpace 511
DESCRIPTION:Every other Wednesday of SLP will feature a Teen Make &amp; Ta
 ke session! Come join us in the Metaspace 511 to learn how to make a new c
 raft that you get to take home with you after! 07/01: Library in a Tin07/
 15: Crochet Flower Pens07/29: Custom ModPodge Journals
URL:https://www.mukwonagolibrary.org/event/teen-make-take-library-tin-2601
 1
END:VEVENT
END:VCALENDAR
