BEGIN:VCALENDAR
VERSION:2.0
PRODID:-//Library Market//iCal Export//EN
BEGIN:VEVENT
SUMMARY:Teen Make &amp; Take: Seashell Friends
UID:26010
DTSTAMP:20260419T171000Z
DTSTART:20260617T180000Z
DTEND:20260617T193000Z
LOCATION:Mukwonago Community Library, 511 Division St., Mukwonago, WI 5314
 9, United States
ROOM: MetaSpace 511
DESCRIPTION:Every other Wednesday of SLP will feature a Teen Make &amp; Ta
 ke session! Come join us in the Metaspace 511 to learn how to make a new c
 raft that you get to take home with you after! 06/17: Seashell Friends07/
 01: Library in a Tin07/15: Crochet Flower Pens07/29: Custom ModPodge Journ
 als
URL:https://www.mukwonagolibrary.org/event/teen-make-take-seashell-friends
 -26010
END:VEVENT
END:VCALENDAR
