BEGIN:VCALENDAR
VERSION:2.0
PRODID:-//Library Market//iCal Export//EN
BEGIN:VEVENT
SUMMARY:Gracenotes Brass Choir Performance
UID:25976
DTSTAMP:20260419T152100Z
DTSTART:20260520T233000Z
DTEND:20260521T003000Z
LOCATION:Mukwonago Community Library, 511 Division St., Mukwonago, WI 5314
 9, United States
ROOM: Community Room (large)
DESCRIPTION:Provide a musical performance open to the general public
URL:https://www.mukwonagolibrary.org/event/gracenotes-brass-choir-performa
 nce-25976
END:VEVENT
END:VCALENDAR
