BEGIN:VCALENDAR
VERSION:2.0
PRODID:-//Library Market//iCal Export//EN
BEGIN:VEVENT
SUMMARY:Tween Scene: Fat Cat Accordion-Fold Bookmaking
UID:25106
DTSTAMP:20260422T143300Z
DTSTART:20260803T160000Z
DTEND:20260803T170000Z
LOCATION:Mukwonago Community Library, 511 Division St., Mukwonago, WI 5314
 9, United States
ROOM: Community Room (large)
DESCRIPTION:Get silly, creative, and adventurous this summer!  Open to ag
 es 9-12.
URL:https://www.mukwonagolibrary.org/event/tween-scene-fat-cat-accordion-f
 old-bookmaking-25106
END:VEVENT
END:VCALENDAR
