BEGIN:VCALENDAR
VERSION:2.0
PRODID:-//Library Market//iCal Export//EN
BEGIN:VEVENT
SUMMARY:Tween Scene: Indoor Mini Golf
UID:25102
DTSTAMP:20260420T233900Z
DTSTART:20260629T160000Z
DTEND:20260629T170000Z
LOCATION:Mukwonago Community Library, 511 Division St., Mukwonago, WI 5314
 9, United States
ROOM: Community Room (large)
DESCRIPTION:Get silly, creative, and adventurous this summer!  Open to ag
 es 9-12.
URL:https://www.mukwonagolibrary.org/event/tween-scene-indoor-mini-golf-25
 102
END:VEVENT
END:VCALENDAR
