BEGIN:VCALENDAR
VERSION:2.0
PRODID:-//Library Market//iCal Export//EN
BEGIN:VEVENT
SUMMARY:Tween Scene: Flying Puppet Workshop with Emma
UID:25101
DTSTAMP:20260420T233900Z
DTSTART:20260622T160000Z
DTEND:20260622T170000Z
LOCATION:Mukwonago Community Library, 511 Division St., Mukwonago, WI 5314
 9, United States
ROOM: Community Room (large)
DESCRIPTION:Get silly, creative, and adventurous this summer!  Open to ag
 es 9-12.
URL:https://www.mukwonagolibrary.org/event/tween-scene-flying-puppet-works
 hop-emma-25101
END:VEVENT
END:VCALENDAR
