BEGIN:VCALENDAR
VERSION:2.0
PRODID:-//Library Market//iCal Export//EN
BEGIN:VEVENT
SUMMARY:Tween Scene: Rain Garden Sunflower Seed Planting
UID:25100
DTSTAMP:20260420T232800Z
DTSTART:20260615T160000Z
DTEND:20260615T170000Z
LOCATION:Mukwonago Community Library, 511 Division St., Mukwonago, WI 5314
 9, United States
ROOM: Community Room (large)
DESCRIPTION:Get silly, creative, and adventurous this summer!  Open to ag
 es 9-12.
URL:https://www.mukwonagolibrary.org/event/tween-scene-rain-garden-sunflow
 er-seed-planting-25100
END:VEVENT
END:VCALENDAR
