BEGIN:VCALENDAR
VERSION:2.0
PRODID:-//Library Market//iCal Export//EN
BEGIN:VEVENT
SUMMARY:Morning Zen: Unwind with Zendoodle
UID:24700
DTSTAMP:20260421T084400Z
DTSTART:20260710T143000Z
DTEND:20260710T153000Z
LOCATION:Mukwonago Community Library, 511 Division St., Mukwonago, WI 5314
 9, United States
ROOM: History Room (conference room)
DESCRIPTION:Discover the art of relaxation and creativity with our daytime
  doodling class at the library called Morning Zen: Unwind with Zentangle! 
 Zentangle (a.k.a. zendoodling) is a meditative drawing method that transfo
 rms simple patterns into stunning designs. Whether you&#039;re a beginner 
 or a seasoned doodler, this class offers a peaceful environment to explore
  your artistic side and meet new people in the community. Join us for a re
 laxing session – all materials provided, and no artistic experience is n
 ecessary!THIS CLASS WILL MEET IN THE HISTORY ROOM THIS MONTH! Stop by the 
 Info Desk for directions.Please note: The designs taught in this class wil
 l be the same as those covered in &quot;Zentangle Untangled&quot; the Thur
 sday evening before this class.
URL:https://www.mukwonagolibrary.org/event/morning-zen-unwind-zendoodle-24
 700
END:VEVENT
END:VCALENDAR
