BEGIN:VCALENDAR
VERSION:2.0
PRODID:-//Library Market//iCal Export//EN
BEGIN:VEVENT
SUMMARY:Teen Tuesday: Idyllic Bubble Tea House presents Boba Mixology
UID:23665
DTSTAMP:20260419T171000Z
DTSTART:20260630T190000Z
DTEND:20260630T203000Z
LOCATION:Mukwonago Community Library, 511 Division St., Mukwonago, WI 5314
 9, United States
ROOM: MetaSpace 511
DESCRIPTION:Summer Library Programming is back! Starting on June 16th and
  reoccurring every week over the summer will be a fresh new program for Te
 ens! Programs will include snacks, drinks, music, and fun! Meet-up and han
 gout with other teens, get crafty, win new XP points, and play games this 
 summer at Mukwonago Library!• PLEASE NOTE: This week&#039;s Teen Tuesday
  program takes place from 2:00-3:30 pm. Idyllic Bubble Tea House presents
  a hands-on Boba Mixology Experience where teens will explore the culture 
 and history behind bubble tea while creating their own custom drink combin
 ations. Participants will experiment with four unique tea bases, authentic
  premium toppings, and a variety of boba to design delicious, one-of-a-kin
 d creations. Open to ages 13-17. Space is limited; registration requir
 ed. Sponsored by the Bridges Library System.
URL:https://www.mukwonagolibrary.org/event/teen-tuesday-idyllic-bubble-tea
 -house-presents-boba-mixology-23665
END:VEVENT
END:VCALENDAR
