BEGIN:VCALENDAR
VERSION:2.0
PRODID:-//Library Market//iCal Export//EN
BEGIN:VEVENT
SUMMARY:Wonderful Wednesday: Bollywood Groove with Ajanta Chakraborty
UID:23539
DTSTAMP:20260419T135900Z
DTSTART:20260722T150000Z
DTEND:20260722T160000Z
LOCATION:Mukwonago Community Library, 511 Division St., Mukwonago, WI 5314
 9, United States
ROOM: Community Room (large)
DESCRIPTION:Join a magical adventure to the heart of India&#039;s Punjab r
 egion, where golden fields and festive rhythms come alive! Explore a worki
 ng farm steeped in tradition, uncover the rich stories behind one of India
 &#039;s most beloved celebrations, and learn the energetic moves of the Bh
 angra Harvest Dance! For families of all ages. Sponsored by the Bridges Li
 brary System.
URL:https://www.mukwonagolibrary.org/event/wonderful-wednesday-bollywood-g
 roove-ajanta-chakraborty-23539
END:VEVENT
END:VCALENDAR
